BEGIN:VCALENDAR
VERSION:2.0
CALSCALE:GREGORIAN
PRODID:-//Diputació de Barcelona//DibaCMS//EN
BEGIN:VEVENT
UID:782
DTSTAMP:20260423T225908
DTSTART:20191126T180000
DTEND:20191126T200000
SUMMARY:I TALLER DE MANUALITATS DE NADAL
LOCATION:
METHOD:PUBLISH
X-WR-CALNAME:st.mateu@diba.cat
X-WR-TIMEZONE:Europe/Madrid
DESCRIPTION:
URI:https://www.santmateudebages.cat/actualitat/agenda/i-taller-de-manualitats-de-nadal.html
CLASS:PUBLIC
END:VEVENT
END:VCALENDAR
