BEGIN:VCALENDAR
VERSION:2.0
CALSCALE:GREGORIAN
PRODID:-//Diputació de Barcelona//DibaCMS//EN
BEGIN:VEVENT
UID:789
DTSTAMP:20260424T020351
DTSTART:20191219T160000
DTEND:20191219T180000
SUMMARY:TALLER DE CUINA APERITIUS PER FESTES
LOCATION:LOCAL SOCIAL 
SANT MATEU DE BAGES 
METHOD:PUBLISH
X-WR-CALNAME:st.mateu@diba.cat
X-WR-TIMEZONE:Europe/Madrid
DESCRIPTION:A càrrec de Laura Pérez, dietista i nutricionista

URI:https://www.santmateudebages.cat/actualitat/agenda/taller-de-cuina-aperitius-per-festes.html
CLASS:PUBLIC
END:VEVENT
END:VCALENDAR
