BEGIN:VCALENDAR
VERSION:2.0
CALSCALE:GREGORIAN
PRODID:-//Diputació de Barcelona//DibaCMS//EN
BEGIN:VEVENT
UID:807
DTSTAMP:20260424T035247
DTSTART:20191214T120000
DTEND:20191215T200000
SUMMARY:ACTES PER LA MARATÓ TV3 - MALALTIES MINORITÀRIES A VALLS DE TORROELLA
LOCATION:
METHOD:PUBLISH
X-WR-CALNAME:st.mateu@diba.cat
X-WR-TIMEZONE:Europe/Madrid
DESCRIPTION:
URI:https://www.santmateudebages.cat/actualitat/agenda/actes-per-la-marato-tv3-malalties-minoritaries-a-valls-de-torroella.html
CLASS:PUBLIC
END:VEVENT
END:VCALENDAR
