BEGIN:VCALENDAR
VERSION:2.0
CALSCALE:GREGORIAN
PRODID:-//Diputació de Barcelona//DibaCMS//EN
BEGIN:VEVENT
UID:808
DTSTAMP:20260424T034320
DTSTART:20191215T140000
DTEND:20191215T210000
SUMMARY:DINAR SOLIDARI PER LA MARATÓ DE TV3 A SANT MATEU DE BAGES
LOCATION:
METHOD:PUBLISH
X-WR-CALNAME:st.mateu@diba.cat
X-WR-TIMEZONE:Europe/Madrid
DESCRIPTION:
URI:https://www.santmateudebages.cat/actualitat/agenda/dinar-solidari-per-la-marato-de-tv3-a-sant-mateu-de-bages.html
CLASS:PUBLIC
END:VEVENT
END:VCALENDAR
