BEGIN:VCALENDAR
VERSION:2.0
CALSCALE:GREGORIAN
PRODID:-//Diputació de Barcelona//DibaCMS//EN
BEGIN:VEVENT
UID:811
DTSTAMP:20260424T020808
DTSTART:20191219T153000
DTEND:20191219T170000
SUMMARY:ELS ESTEVETS PRESENTEN "MAR I INFERN" ELS NOSTRES PASTORETS
LOCATION:
METHOD:PUBLISH
X-WR-CALNAME:st.mateu@diba.cat
X-WR-TIMEZONE:Europe/Madrid
DESCRIPTION:
URI:https://www.santmateudebages.cat/actualitat/agenda/els-estevets-presenten-mar-i-infern-els-nostres-pastorets.html
CLASS:PUBLIC
END:VEVENT
END:VCALENDAR
