BEGIN:VCALENDAR
VERSION:2.0
CALSCALE:GREGORIAN
PRODID:-//Diputació de Barcelona//DibaCMS//EN
BEGIN:VEVENT
UID:818
DTSTAMP:20260424T035011
DTSTART:20191227T180000
DTEND:20191227T200000
SUMMARY:Ple Ordinari de l'Ajuntament de Sant Mateu de Bages
LOCATION:Pl. 1 d'octubre, 1. 
METHOD:PUBLISH
X-WR-CALNAME:st.mateu@diba.cat
X-WR-TIMEZONE:Europe/Madrid
DESCRIPTION:
URI:https://www.santmateudebages.cat/ajuntament/govern/agenda-politica/ple-ordinari-de-lajuntament-de-sant-mateu-de-bages.html
CLASS:PUBLIC
END:VEVENT
END:VCALENDAR
