BEGIN:VCALENDAR
VERSION:2.0
CALSCALE:GREGORIAN
PRODID:-//Diputació de Barcelona//DibaCMS//EN
BEGIN:VEVENT
UID:825
DTSTAMP:20260424T001651
DTSTART:20200110T093000
DTEND:20200110T120000
SUMMARY:Presentació dels recursos de la Gerència de Turisme de la Diputació en el Catàleg 2020
LOCATION:Edifici Vagó Escola Industrial de Barcelona. 
METHOD:PUBLISH
X-WR-CALNAME:st.mateu@diba.cat
X-WR-TIMEZONE:Europe/Madrid
DESCRIPTION:Presentació dels recursos de la Gerència de Turisme en el Catàleg 2020

URI:https://www.santmateudebages.cat/ajuntament/govern/agenda-politica/presentacio-dels-recursos-de-la-gerencia-de-turisme-de-la-diputacio-en-el-cataleg-2020.html
CLASS:PUBLIC
END:VEVENT
END:VCALENDAR
