BEGIN:VCALENDAR
VERSION:2.0
CALSCALE:GREGORIAN
PRODID:-//Diputació de Barcelona//DibaCMS//EN
BEGIN:VEVENT
UID:827
DTSTAMP:20260424T002449
DTSTART:20200114T130000
DTEND:20200114T140000
SUMMARY:Visita Bisbat de Vic
LOCATION: Carrer de Tànger, 98, baixos 08018  Barcelona
METHOD:PUBLISH
X-WR-CALNAME:st.mateu@diba.cat
X-WR-TIMEZONE:Europe/Madrid
DESCRIPTION:
URI:https://www.santmateudebages.cat/ajuntament/govern/agenda-politica/visita-bisbat-de-vic.html
CLASS:PUBLIC
END:VEVENT
END:VCALENDAR
