BEGIN:VCALENDAR
VERSION:2.0
CALSCALE:GREGORIAN
PRODID:-//Diputació de Barcelona//DibaCMS//EN
BEGIN:VEVENT
UID:833
DTSTAMP:20260424T020728
DTSTART:20200114T080000
DTEND:20200114T092000
SUMMARY:Junta de Govern Ordinaria dia 14/01/2020
LOCATION:Pl. 1 d'octubre, 1.
SANT MATEU DE BAGES 
METHOD:PUBLISH
X-WR-CALNAME:st.mateu@diba.cat
X-WR-TIMEZONE:Europe/Madrid
DESCRIPTION:
URI:https://www.santmateudebages.cat/ajuntament/govern/agenda-politica/junta-de-govern-ordinaria-dia-14012020.html
CLASS:PUBLIC
END:VEVENT
END:VCALENDAR
