BEGIN:VCALENDAR
VERSION:2.0
CALSCALE:GREGORIAN
PRODID:-//Diputació de Barcelona//DibaCMS//EN
BEGIN:VEVENT
UID:834
DTSTAMP:20260424T020457
DTSTART:20200116T183000
DTEND:20200116T220000
SUMMARY:Ple extraordinari sessió 16/01/2020
LOCATION:Pl. 1 d'Octubre, 1 08263 Sant Mateu de Bages
METHOD:PUBLISH
X-WR-CALNAME:st.mateu@diba.cat
X-WR-TIMEZONE:Europe/Madrid
DESCRIPTION:
URI:https://www.santmateudebages.cat/ajuntament/govern/agenda-politica/ple-extraordinari-sessio-16012020.html
CLASS:PUBLIC
END:VEVENT
END:VCALENDAR
