BEGIN:VCALENDAR
VERSION:2.0
CALSCALE:GREGORIAN
PRODID:-//Diputació de Barcelona//DibaCMS//EN
BEGIN:VEVENT
UID:836
DTSTAMP:20260424T000410
DTSTART:20200121T180000
DTEND:20200121T190000
SUMMARY:Reunio Regidors d'Educació convocada per la Diputació de Barcelona
LOCATION:Sala d'Actes del Casino de Manresa 
METHOD:PUBLISH
X-WR-CALNAME:st.mateu@diba.cat
X-WR-TIMEZONE:Europe/Madrid
DESCRIPTION:
URI:https://www.santmateudebages.cat/ajuntament/govern/agenda-politica/reunio-regidors-deducacio-convocada-per-la-diputacio-de-barcelona.html
CLASS:PUBLIC
END:VEVENT
END:VCALENDAR
