BEGIN:VCALENDAR
VERSION:2.0
CALSCALE:GREGORIAN
PRODID:-//Diputació de Barcelona//DibaCMS//EN
BEGIN:VEVENT
UID:837
DTSTAMP:20260424T002730
DTSTART:20200121T090000
DTEND:20200121T103000
SUMMARY:JUNTA DE GOVERN ORDINARIA 21/01/2020
LOCATION:Pl. 1 d'Octubre, 1 08263 Sant Mateu de Bages
METHOD:PUBLISH
X-WR-CALNAME:st.mateu@diba.cat
X-WR-TIMEZONE:Europe/Madrid
DESCRIPTION:
URI:https://www.santmateudebages.cat/ajuntament/govern/agenda-politica/junta-de-govern-ordinaria-21012020.html
CLASS:PUBLIC
END:VEVENT
END:VCALENDAR
