BEGIN:VCALENDAR
VERSION:2.0
CALSCALE:GREGORIAN
PRODID:-//Diputació de Barcelona//DibaCMS//EN
BEGIN:VEVENT
UID:841
DTSTAMP:20260424T002526
DTSTART:20200131T090000
DTEND:20200131T110000
SUMMARY:Reunió Alcaldes Comarca amb la Delegada del Govern
LOCATION:Consell Comarcal del Bages 
METHOD:PUBLISH
X-WR-CALNAME:st.mateu@diba.cat
X-WR-TIMEZONE:Europe/Madrid
DESCRIPTION:Afectacions als municipis com a conseqüència del temporal Gloria.

URI:https://www.santmateudebages.cat/ajuntament/govern/agenda-politica/reunio-alcaldes-comarca-amb-la-delegada-del-govern.html
CLASS:PUBLIC
END:VEVENT
END:VCALENDAR
