BEGIN:VCALENDAR
VERSION:2.0
CALSCALE:GREGORIAN
PRODID:-//Diputació de Barcelona//DibaCMS//EN
BEGIN:VEVENT
UID:846
DTSTAMP:20260424T000500
DTSTART:20200220T193000
DTEND:20200220T213000
SUMMARY:REUNIÓ PLE DE LA CORPORACIÓ
LOCATION:
METHOD:PUBLISH
X-WR-CALNAME:st.mateu@diba.cat
X-WR-TIMEZONE:Europe/Madrid
DESCRIPTION:
URI:https://www.santmateudebages.cat/ajuntament/govern/agenda-politica/846-reunio-ple-de-la-corporacio.html
CLASS:PUBLIC
END:VEVENT
END:VCALENDAR
