BEGIN:VCALENDAR
VERSION:2.0
CALSCALE:GREGORIAN
PRODID:-//Diputació de Barcelona//DibaCMS//EN
BEGIN:VEVENT
UID:847
DTSTAMP:20260424T013712
DTSTART:20200226T130000
DTEND:20200226T140000
SUMMARY:Reunió Consell Comarcal
LOCATION:
METHOD:PUBLISH
X-WR-CALNAME:st.mateu@diba.cat
X-WR-TIMEZONE:Europe/Madrid
DESCRIPTION:Presidenta Consell Comarcal, Alcalde Callús i Fonollosa. Activitats col·lindants entre els tres termes municipals.

URI:https://www.santmateudebages.cat/ajuntament/govern/agenda-politica/reunio-consell-comarcal.html
CLASS:PUBLIC
END:VEVENT
END:VCALENDAR
