BEGIN:VCALENDAR
VERSION:2.0
CALSCALE:GREGORIAN
PRODID:-//Diputació de Barcelona//DibaCMS//EN
BEGIN:VEVENT
UID:850
DTSTAMP:20260424T080646
DTSTART:20200228T103000
DTEND:20200228T113000
SUMMARY:Reunió Tècnic Diputació sobre Talús Valls de Torroella
LOCATION:Oficines Valls de Torroella 
METHOD:PUBLISH
X-WR-CALNAME:st.mateu@diba.cat
X-WR-TIMEZONE:Europe/Madrid
DESCRIPTION:Presentació estudi Talús Valls de Torroella. Zona aparcament Ctra. Cardona.

URI:https://www.santmateudebages.cat/ajuntament/govern/agenda-politica/reunio-tecnic-diputacio-sobre-talus-valls-de-torroella.html
CLASS:PUBLIC
END:VEVENT
END:VCALENDAR
