BEGIN:VCALENDAR
VERSION:2.0
CALSCALE:GREGORIAN
PRODID:-//Diputació de Barcelona//DibaCMS//EN
BEGIN:VEVENT
UID:857
DTSTAMP:20260424T045652
DTSTART:20200310T170000
DTEND:20200310T180000
SUMMARY:ACTES 8M
LOCATION:DAVANT DE LES OFICINES DE L'AJUNTAMENT A VALLS DE TORROELLA 
METHOD:PUBLISH
X-WR-CALNAME:st.mateu@diba.cat
X-WR-TIMEZONE:Europe/Madrid
DESCRIPTION:LECTURA DEL MANIFEST EN SUPORT A LA LLUITA PELS DRETS I LA IGUALTAT DE LES DONES

URI:https://www.santmateudebages.cat/actualitat/agenda/actes-8m.html
CLASS:PUBLIC
END:VEVENT
END:VCALENDAR
