BEGIN:VCALENDAR
VERSION:2.0
CALSCALE:GREGORIAN
PRODID:-//Diputació de Barcelona//DibaCMS//EN
BEGIN:VEVENT
UID:893
DTSTAMP:20260424T075837
DTSTART:20200704T203000
DTEND:20200704T230000
SUMMARY:CONCERT PEL VERD DESPRÉS DEL NEGRE
LOCATION:
METHOD:PUBLISH
X-WR-CALNAME:st.mateu@diba.cat
X-WR-TIMEZONE:Europe/Madrid
DESCRIPTION:CONVERT AMB CELESTE ALÍAS I SANTI CARETA

VEU, GUITARRA, LOOPS I EFECTES

ART DESCONFINAT - EMOCIÓ SENSE PERJUDICIS

URI:https://www.santmateudebages.cat/actualitat/agenda/concert-pel-verd-despres-del-negre.html
CLASS:PUBLIC
END:VEVENT
END:VCALENDAR
