BEGIN:VCALENDAR
VERSION:2.0
CALSCALE:GREGORIAN
PRODID:-//Diputació de Barcelona//DibaCMS//EN
BEGIN:VEVENT
UID:902
DTSTAMP:20260423T123023
DTSTART:20200919T000000
DTEND:20200920T000000
SUMMARY:FESTA MAJOR SANT MATEU DE BAGES
LOCATION:
METHOD:PUBLISH
X-WR-CALNAME:st.mateu@diba.cat
X-WR-TIMEZONE:Europe/Madrid
DESCRIPTION:
URI:https://www.santmateudebages.cat/actualitat/agenda/902-festa-major-sant-mateu-de-bages.html
CLASS:PUBLIC
END:VEVENT
END:VCALENDAR
