BEGIN:VCALENDAR
VERSION:2.0
CALSCALE:GREGORIAN
PRODID:-//Diputació de Barcelona//DibaCMS//EN
BEGIN:VEVENT
UID:905
DTSTAMP:20260424T080809
DTSTART:20200926T000000
DTEND:20200927T000000
SUMMARY:FESTA MAJOR CASTELLTALLAT
LOCATION:
METHOD:PUBLISH
X-WR-CALNAME:st.mateu@diba.cat
X-WR-TIMEZONE:Europe/Madrid
DESCRIPTION:
URI:https://www.santmateudebages.cat/actualitat/agenda/905-festa-major-castelltallat.html
CLASS:PUBLIC
END:VEVENT
END:VCALENDAR
