BEGIN:VCALENDAR
VERSION:2.0
CALSCALE:GREGORIAN
PRODID:-//Diputació de Barcelona//DibaCMS//EN
BEGIN:VEVENT
UID:906
DTSTAMP:20260424T093933
DTSTART:20201004T000000
DTEND:20201004T000000
SUMMARY:CAMINADA DEL TRENCALL DEL SEMIS A CONAER
LOCATION:
METHOD:PUBLISH
X-WR-CALNAME:st.mateu@diba.cat
X-WR-TIMEZONE:Europe/Madrid
DESCRIPTION:
URI:https://www.santmateudebages.cat/actualitat/agenda/caminada-del-trencall-del-semis-a-conaer.html
CLASS:PUBLIC
END:VEVENT
END:VCALENDAR
