BEGIN:VCALENDAR
VERSION:2.0
CALSCALE:GREGORIAN
PRODID:-//Diputació de Barcelona//DibaCMS//EN
BEGIN:VEVENT
UID:936
DTSTAMP:20260424T095733
DTSTART:20210314T090000
DTEND:20210314T150000
SUMMARY:Commemoració del DIA DE LA DONA TREBALLADORA. 8 de març - CAMINADA POPULAR
LOCATION:
METHOD:PUBLISH
X-WR-CALNAME:st.mateu@diba.cat
X-WR-TIMEZONE:Europe/Madrid
DESCRIPTION:
URI:https://www.santmateudebages.cat/actualitat/agenda/commemoracio-del-dia-de-la-dona-treballadora-8-de-marc-caminada-popular.html
CLASS:PUBLIC
END:VEVENT
END:VCALENDAR
