BEGIN:VCALENDAR
VERSION:2.0
CALSCALE:GREGORIAN
PRODID:-//Diputació de Barcelona//DibaCMS//EN
BEGIN:VEVENT
UID:945
DTSTAMP:20260424T100514
DTSTART:20210523T113000
DTEND:20210523T140000
SUMMARY:CONCERT ACADÈMIA 1750 I INÉS MORENO DINS DEL FESTIVAL ESPURNES BARROQUES 2021
LOCATION:Cerveseria La Guineu
Valls de Torroella 
METHOD:PUBLISH
X-WR-CALNAME:st.mateu@diba.cat
X-WR-TIMEZONE:Europe/Madrid
DESCRIPTION:Reproduirem una “lluhida acadèmia” com les que consignava el Baró de Maldà als seus escrits. No ho farem en un casal de Barcelona sinó a Ca l’Arenys, una fàbrica de cervesa del Cardener. Un inusual i espectacular concert per a dos clavicèmbals clourà un programa lluït, maridat amb la lluentor dels llúpols.

URI:https://www.santmateudebages.cat/actualitat/agenda/concert-academia-1750-i-ines-moreno-dins-del-festival-espurnes-barroques-2021.html
CLASS:PUBLIC
END:VEVENT
END:VCALENDAR
